Workbook

Sheet EnviadoEvalina
B1: 2015 | C1: VAB por industria y PIB regionales. Precios corrientes
B2: Agropecuario | C2: Minas y canteras | D2: Manufactura Local | E2: Manufactura Zona Franca | F2: Construccion | G2: Energia y agua | H2: Comercio | I2: Hoteles, bares y restaurantes | J2: Transporte y almacenamiento | K2: Comunicaciones | L2: Intermediacion financiera | M2: Actividades inmobiliarias y de alquiler | N2: Enseñanza | O2: Salud | P2: Otras actividades de servicios de mercado | Q2: Administracion publica y defensa; seguridad social obligatoria | R2: PIB | S2: Impuestos | T2: VAB
A3: Ozama | B3: 3667.6368 | C3: 1640.7334 | D3: 187131.42 | E3: 51137.953 | F3: 132397.21 | G3: 26863.671 | H3: 135011.48 | I3: 54969.963 | J3: 120360.37 | K3: 21531.718 | L3: 73261.569 | M3: 133391.51 | N3: 70211.533 | O3: 44420.931 | P3: 125391.03 | Q3: 71619.729 | R3: 1346704.7 | S3: 93696.196 | T3: 1253008.5
A4: Cibao Norte | B4: 26317.8 | C4: 580.3 | D4: 45573.5 | E4: 24231.5 | F4: 47961 | G4: 833.2 | H4: 56749.7 | I4: 43366.444 | J4: 35237.8 | K4: 4114.5 | L4: 17345.6 | M4: 41190.3 | N4: 26613 | O4: 13845.3 | P4: 31741.9 | Q4: 9970.5 | R4: 457502.74 | S4: 31830.4 | T4: 425672.34
A5: Cibao Sur | B5: 46338.4 | C5: 45039.5 | D5: 17758.1 | E5: 2136.6 | F5: 23473 | G5: 1407.4 | H5: 21668 | I5: 7939.1898 | J5: 12110.3 | K5: 1186.1 | L5: 6891 | M5: 14280.5 | N5: 11157.5 | O5: 5785.9 | P5: 12661.6 | Q5: 3663.4 | R5: 250956.59 | S5: 17460.1 | T5: 233496.49
A6: Cibao Nordeste | B6: 22909.8 | C6: 59.9 | D6: 6611.4 | E6: 264.1 | F6: 26272.7 | G6: 5 | H6: 19545.7 | I6: 16138.011 | J6: 13203.2 | K6: 1415.2 | L6: 5988.9 | M6: 13357 | N6: 10760.7 | O6: 5892.6 | P6: 8903.6 | Q6: 3099.7 | R6: 165975.11 | S6: 11547.6 | T6: 154427.51
A7: Cibao Noroeste | B7: 20664 | C7: 0.9 | D7: 13262.8 | E7: 753.6 | F7: 10012.7 | G7: 506.4 | H7: 13696.5 | I7: 3731.0247 | J7: 9153.6 | K7: 603.5 | L7: 2732 | M7: 6564.6 | N7: 3812.5 | O7: 3165 | P7: 5870.4 | Q7: 3242.6 | R7: 105083.22 | S7: 7311.1 | T7: 97772.125
A8: Valdesia | B8: 17437.6 | C8: 435.1 | D8: 81993.2 | E8: 21519.4 | F8: 32389.9 | G8: 14106.4 | H8: 32531 | I8: 9119.355 | J8: 33533.4 | K8: 1871.3 | L8: 7197.2 | M8: 20279 | N8: 14036.6 | O8: 5852.6 | P8: 23380.6 | Q8: 7672.3 | R8: 347534.45 | S8: 24179.5 | T8: 323354.95
A9: El Valle | B9: 12146.5 | C9: 0 | D9: 155.1 | E9: 10.5 | F9: 6626.9 | G9: 615.3 | H9: 6355.7 | I9: 2180.3523 | J9: 4103.6 | K9: 203.7 | L9: 1819.6 | M9: 3836.2 | N9: 3626.7 | O9: 2573.3 | P9: 3827.2 | Q9: 1928.6 | R9: 53748.752 | S9: 3739.5 | T9: 50009.252
A10: Enriquillo | B10: 7772.2 | C10: 1527.6 | D10: 355.7 | E10: 1694 | F10: 11966.1 | G10: 6703.9 | H10: 8958 | I10: 3764.8325 | J10: 9059.4 | K10: 312.9 | L10: 1678.9 | M10: 3897.3 | N10: 3717.3 | O10: 3258.5 | P10: 2784.2 | Q10: 2948.5 | R10: 75663.532 | S10: 5264.2 | T10: 70399.332
A11: Higuamo | B11: 10247.7 | C11: 458.2 | D11: 1320 | E11: 3290.2 | F11: 16897.5 | G11: 13056.5 | H11: 16665 | I11: 10068.604 | J11: 10267.6 | K11: 1382.2 | L11: 4329.1 | M11: 9922.9 | N11: 8752 | O11: 4554.9 | P11: 8875.9 | Q11: 3024 | R11: 132318.3 | S11: 9206 | T11: 123112.3
A12: Yuma | B12: 8318.8 | C12: 137.8 | D12: 12031.9 | E12: 78.8 | F12: 20208.9 | G12: 1.8 | H12: 22696.4 | I12: 97744.862 | J12: 18369.5 | K12: 944.3 | L12: 7446.8 | M12: 16568.8 | N12: 6652.1 | O12: 3685.4 | P12: 16071 | Q12: 2555.3 | R12: 250973.76 | S12: 17461.3 | T12: 233512.46
Q13: 17858.6 | R13: 19194 | S13: 1335.4 | T13: 17858.6
R14: 3205655.1 | T14: 2982623.8
B15: 2016 | C15: VAB por industria y PIB regionales. Precios corrientes
B16: Agropecuario | C16: Minas y canteras | D16: Manufactura Local | E16: Manufactura Zona Franca | F16: Construccion | G16: Energia y agua | H16: Comercio | I16: Hoteles, bares y restaurantes | J16: Transporte y almacenamiento | K16: Comunicaciones | L16: Intermediacion financiera | M16: Actividades inmobiliarias y de alquiler | N16: Enseñanza | O16: Salud | P16: Otras actividades de servicios de mercado | Q16: Administracion publica y defensa; seguridad social obligatoria | R16: PIB | S16: Impuestos | T16: VAB
A17: Ozama | B17: 4152.8268 | C17: 1961.852 | D17: 230771.69 | E17: 41270.766 | F17: 108519.12 | G17: 24674.246 | H17: 154202.78 | I17: 68032.025 | J17: 109305.31 | K17: 22893.378 | L17: 97492.215 | M17: 149152.04 | N17: 86089.805 | O17: 51080.994 | P17: 138315.88 | Q17: 76768.495 | R17: 1468445.9 | S17: 103762.51 | T17: 1364683.4
A18: Cibao Norte | B18: 26424.1 | C18: 489.5 | D18: 49325.9 | E18: 33461.3 | F18: 51273.7 | G18: 1182.6 | H18: 63496.4 | I18: 46980.647 | J18: 40794.8 | K18: 3232.4 | L18: 15097 | M18: 41485.2 | N18: 30384.4 | O18: 14619.3 | P18: 35013.9 | Q18: 10687.4 | R18: 499224.45 | S18: 35275.9 | T18: 463948.55
A19: Cibao Sur | B19: 37812.6 | C19: 64891.3 | D19: 16278.4 | E19: 1454.2 | F19: 30950.2 | G19: 2011.8 | H19: 21783.2 | I19: 8897.2518 | J19: 19376.6 | K19: 1308.5 | L19: 6537.4 | M19: 16274.6 | N19: 8617.4 | O19: 7738.5 | P19: 13966.8 | Q19: 3926.8 | R19: 281733.25 | S19: 19907.7 | T19: 261825.55
A20: Cibao Nordeste | B20: 31058.4 | C20: 74 | D20: 1810.5 | E20: 48.2 | F20: 29236.7 | G20: 7.5 | H20: 24569.6 | I20: 16562.493 | J20: 18058 | K20: 1251.7 | L20: 5149.1 | M20: 12665.4 | N20: 10900.5 | O20: 5831.4 | P20: 9821.3 | Q20: 3322.6 | R20: 183321.09 | S20: 12953.7 | T20: 170367.39
A21: Cibao Noroeste | B21: 31651.4 | C21: 0.9 | D21: 1543.1 | E21: 354.7 | F21: 13144.4 | G21: 722.7 | H21: 15337.1 | I21: 4667.8206 | J21: 7895.3 | K21: 991.2 | L21: 2231 | M21: 6585.3 | N21: 5523.5 | O21: 3311.3 | P21: 6475.5 | Q21: 3475.7 | R21: 111811.72 | S21: 7900.8 | T21: 103910.92
A22: Valdesia | B22: 19958 | C22: 546.6 | D22: 67128 | E22: 26231.1 | F22: 28660.8 | G22: 13878 | H22: 37457.1 | I22: 9757.9824 | J22: 35293 | K22: 1394.1 | L22: 6960.5 | M22: 18914.3 | N22: 14844 | O22: 7055.5 | P22: 25790.7 | Q22: 8223.9 | R22: 346583.68 | S22: 24490.1 | T22: 322093.58
A23: El Valle | B23: 12901.2 | C23: 0 | D23: 38.7 | E23: 11.6 | F23: 9745.3 | G23: 878.2 | H23: 7850.1 | I23: 3087.9415 | J23: 7427.5 | K23: 974 | L23: 1476.1 | M23: 4368.1 | N23: 4051.4 | O23: 2514.3 | P23: 4221.8 | Q23: 2067.3 | R23: 66298.241 | S23: 4684.7 | T23: 61613.541
A24: Enriquillo | B24: 7728.3 | C24: 246.8 | D24: 1190.4 | E24: 741.5 | F24: 13341.4 | G24: 5740.2 | H24: 9587.7 | I24: 4269.571 | J24: 9239.2 | K24: 425.2 | L24: 1273.5 | M24: 3854.3 | N24: 4137 | O24: 3670.4 | P24: 3071.2 | Q24: 3160.5 | R24: 77127.071 | S24: 5449.9 | T24: 71677.171
A25: Higuamo | B25: 10740.3 | C25: 581.8 | D25: 5991.1 | E25: 5733.9 | F25: 20487.3 | G25: 11124.1 | H25: 14338.4 | I25: 9331.3312 | J25: 19757 | K25: 536.1 | L25: 3919 | M25: 11004.4 | N25: 7922.1 | O25: 4000.9 | P25: 9790.8 | Q25: 3241.4 | R25: 149030.63 | S25: 10530.7 | T25: 138499.93
A26: Yuma | B26: 9627.6 | C26: 178.9 | D26: 12610.8 | E26: 6829.8 | F26: 24352.1 | G26: 0.9 | H26: 25523.9 | I26: 100940.44 | J26: 20087.7 | K26: 1899.2 | L26: 7439.7 | M26: 17437.7 | N26: 11178.1 | O26: 4539.4 | P26: 17727.6 | Q26: 2739 | R26: 283118.44 | S26: 20005.6 | T26: 263112.84
C27: 0 | D27: 0 | F27: 0 | G27: 0 | H27: 0 | I27: 0 | J27: 0 | K27: 0 | M27: 0 | Q27: 19142.5 | R27: 20598 | S27: 1455.5 | T27: 19142.5
R28: 3487292.5 | T28: 3240875.4
B29: 2016 | C29: VAB por industria y PIB regionales. Precios del anio precedente
B30: Agropecuario | C30: Minas y canteras | D30: Manufactura Local | E30: Manufactura Zona Franca | F30: Construccion | G30: Energia y agua | H30: Comercio | I30: Hoteles, bares y restaurantes | J30: Transporte y almacenamiento | K30: Comunicaciones | L30: Intermediacion financiera | M30: Actividades inmobiliarias y de alquiler | N30: Enseñanza | O30: Salud | P30: Otras actividades de servicios de mercado | Q30: Administracion publica y defensa; seguridad social obligatoria | R30: PIB | S30: Impuestos | T30: VAB
A31: Ozama | B31: 4016.3764 | C31: 1783.8601 | D31: 225299.9 | E31: 38667.933 | F31: 119348.31 | G31: 25896.407 | H31: 147610.14 | I31: 66090.83 | J31: 107484.5 | K31: 23317.703 | L31: 94420.216 | M31: 146480.17 | N31: 77005.17 | O31: 50220.989 | P31: 134796.23 | Q31: 71714.313 | R31: 1439742.1 | S31: 103543.45 | T31: 1336198.7
A32: Cibao Norte | B32: 25555.877 | C32: 445.08939 | D32: 48156.34 | E32: 31350.989 | F32: 56390.337 | G32: 1241.1764 | H32: 60781.737 | I32: 45640.122 | J32: 40115.24 | K32: 3292.312 | L32: 14621.291 | M32: 40742.044 | N32: 27178.083 | O32: 14373.168 | P32: 34122.919 | Q32: 9983.7772 | R32: 489466.07 | S32: 35201.426 | T32: 454264.64
A33: Cibao Sur | B33: 36570.182 | C33: 59003.94 | D33: 15892.425 | E33: 1362.4877 | F33: 34038.741 | G33: 2111.4482 | H33: 20851.902 | I33: 8643.3817 | J33: 19053.825 | K33: 1332.7528 | L33: 6331.4052 | M33: 15983.061 | N33: 7708.048 | O33: 7608.2137 | P33: 13611.394 | Q33: 3668.2726 | R33: 276226.19 | S33: 19865.671 | T33: 256360.52
A34: Cibao Nordeste | B34: 30037.906 | C34: 67.28624 | D34: 1767.5715 | E34: 45.16016 | F34: 32154.25 | G34: 7.8714888 | H34: 23519.175 | I34: 16089.906 | J34: 17757.19 | K34: 1274.9 | L34: 4986.8508 | M34: 12438.515 | N34: 9750.2237 | O34: 5733.2219 | P34: 9571.3823 | Q34: 3103.8511 | R34: 179737.7 | S34: 12926.352 | T34: 166811.35
A35: Cibao Noroeste | B35: 30611.422 | C35: 0.81834616 | D35: 1506.5118 | E35: 332.33006 | F35: 14456.089 | G35: 758.49666 | H35: 14681.393 | I35: 4534.6312 | J35: 7763.7801 | K35: 1009.5717 | L35: 2160.7007 | M35: 6467.3325 | N35: 4940.6321 | O35: 3255.5506 | P35: 6310.7212 | Q35: 3246.8715 | R35: 109626.13 | S35: 7884.12 | T35: 101742.01
A36: Valdesia | B36: 19302.235 | C36: 497.0089 | D36: 65536.337 | E36: 24576.778 | F36: 31520.881 | G36: 14565.403 | H36: 35855.696 | I36: 9479.5525 | J36: 34705.089 | K36: 1419.9394 | L36: 6741.1732 | M36: 18575.474 | N36: 13277.585 | O36: 6936.7128 | P36: 25134.417 | Q36: 7682.4658 | R36: 339808.98 | S36: 24438.397 | T36: 315370.59
A37: El Valle | B37: 12477.302 | C37: 0 | D37: 37.78239 | E37: 10.86842 | F37: 10717.79 | G37: 921.69886 | H37: 7514.4845 | I37: 2999.8316 | J37: 7303.7727 | K37: 992.05291 | L37: 1429.5878 | M37: 4289.8509 | N37: 3623.8756 | O37: 2471.969 | P37: 4114.37 | Q37: 1931.1958 | R37: 65002.305 | S37: 4674.8098 | T37: 60327.494
A38: Enriquillo | B38: 7474.3693 | C38: 224.4087 | D38: 1162.1746 | E38: 694.73566 | F38: 14672.747 | G38: 6024.5227 | H38: 9177.7968 | I38: 4147.745 | J38: 9085.2934 | K38: 433.08101 | L38: 1233.3718 | M38: 3785.255 | N38: 3700.4427 | O38: 3608.6047 | P38: 2993.0487 | Q38: 2952.4232 | R38: 75619.462 | S38: 5438.3943 | T38: 70181.068
A39: Higuamo | B39: 10387.403 | C39: 529.01533 | D39: 5849.0458 | E39: 5372.2789 | F39: 22531.741 | G39: 11675.097 | H39: 13725.39 | I39: 9065.0753 | J39: 19427.888 | K39: 546.03652 | L39: 3795.5115 | M39: 10807.27 | N39: 7086.1196 | O39: 3933.5404 | P39: 9541.6584 | Q39: 3027.997 | R39: 146117.52 | S39: 10508.468 | T39: 135609.05
A40: Yuma | B40: 9311.2635 | C40: 162.66903 | D40: 12311.787 | E40: 6399.0635 | F40: 26782.212 | G40: 0.94457866 | H40: 24432.676 | I40: 98060.249 | J40: 19753.079 | K40: 1934.4013 | L40: 7205.2736 | M40: 17125.325 | N40: 9998.5299 | O40: 4462.9742 | P40: 17276.495 | Q40: 2558.6734 | R40: 277584.3 | S40: 19963.365 | T40: 257620.94
...

Sheet Doblecheck 
A1: =+#REF!=EnviadoEvalina!A1 -> #REF! | B1: =+#REF!=EnviadoEvalina!B1 -> #REF! | C1: =+#REF!=EnviadoEvalina!C1 -> #REF! | D1: =+#REF!=EnviadoEvalina!D1 -> #REF! | E1: =+#REF!=EnviadoEvalina!E1 -> #REF! | F1: =+#REF!=EnviadoEvalina!F1 -> #REF! | G1: =+#REF!=EnviadoEvalina!G1 -> #REF! | H1: =+#REF!=EnviadoEvalina!H1 -> #REF! | ... T1: =+#REF!=EnviadoEvalina!T1 -> #REF!
A2: =+#REF!=EnviadoEvalina!A2 -> #REF! | B2: =+#REF!=EnviadoEvalina!B2 -> #REF! | C2: =+#REF!=EnviadoEvalina!C2 -> #REF! | D2: =+#REF!=EnviadoEvalina!D2 -> #REF! | E2: =+#REF!=EnviadoEvalina!E2 -> #REF! | F2: =+#REF!=EnviadoEvalina!F2 -> #REF! | G2: =+#REF!=EnviadoEvalina!G2 -> #REF! | H2: =+#REF!=EnviadoEvalina!H2 -> #REF! | ... T2: =+#REF!=EnviadoEvalina!T2 -> #REF!
A3: =+#REF!=EnviadoEvalina!A3 -> #REF! | B3: =+#REF!=EnviadoEvalina!B3 -> #REF! | C3: =+#REF!=EnviadoEvalina!C3 -> #REF! | D3: =+#REF!=EnviadoEvalina!D3 -> #REF! | E3: =+#REF!=EnviadoEvalina!E3 -> #REF! | F3: =+#REF!=EnviadoEvalina!F3 -> #REF! | G3: =+#REF!=EnviadoEvalina!G3 -> #REF! | H3: =+#REF!=EnviadoEvalina!H3 -> #REF! | ... T3: =+#REF!=EnviadoEvalina!T3 -> #REF!
A4: =+#REF!=EnviadoEvalina!A4 -> #REF! | B4: =+#REF!=EnviadoEvalina!B4 -> #REF! | C4: =+#REF!=EnviadoEvalina!C4 -> #REF! | D4: =+#REF!=EnviadoEvalina!D4 -> #REF! | E4: =+#REF!=EnviadoEvalina!E4 -> #REF! | F4: =+#REF!=EnviadoEvalina!F4 -> #REF! | G4: =+#REF!=EnviadoEvalina!G4 -> #REF! | H4: =+#REF!=EnviadoEvalina!H4 -> #REF! | ... T4: =+#REF!=EnviadoEvalina!T4 -> #REF!
A5: =+#REF!=EnviadoEvalina!A5 -> #REF! | B5: =+#REF!=EnviadoEvalina!B5 -> #REF! | C5: =+#REF!=EnviadoEvalina!C5 -> #REF! | D5: =+#REF!=EnviadoEvalina!D5 -> #REF! | E5: =+#REF!=EnviadoEvalina!E5 -> #REF! | F5: =+#REF!=EnviadoEvalina!F5 -> #REF! | G5: =+#REF!=EnviadoEvalina!G5 -> #REF! | H5: =+#REF!=EnviadoEvalina!H5 -> #REF! | ... T5: =+#REF!=EnviadoEvalina!T5 -> #REF!
A6: =+#REF!=EnviadoEvalina!A6 -> #REF! | B6: =+#REF!=EnviadoEvalina!B6 -> #REF! | C6: =+#REF!=EnviadoEvalina!C6 -> #REF! | D6: =+#REF!=EnviadoEvalina!D6 -> #REF! | E6: =+#REF!=EnviadoEvalina!E6 -> #REF! | F6: =+#REF!=EnviadoEvalina!F6 -> #REF! | G6: =+#REF!=EnviadoEvalina!G6 -> #REF! | H6: =+#REF!=EnviadoEvalina!H6 -> #REF! | ... T6: =+#REF!=EnviadoEvalina!T6 -> #REF!
A7: =+#REF!=EnviadoEvalina!A7 -> #REF! | B7: =+#REF!=EnviadoEvalina!B7 -> #REF! | C7: =+#REF!=EnviadoEvalina!C7 -> #REF! | D7: =+#REF!=EnviadoEvalina!D7 -> #REF! | E7: =+#REF!=EnviadoEvalina!E7 -> #REF! | F7: =+#REF!=EnviadoEvalina!F7 -> #REF! | G7: =+#REF!=EnviadoEvalina!G7 -> #REF! | H7: =+#REF!=EnviadoEvalina!H7 -> #REF! | ... T7: =+#REF!=EnviadoEvalina!T7 -> #REF!
A8: =+#REF!=EnviadoEvalina!A8 -> #REF! | B8: =+#REF!=EnviadoEvalina!B8 -> #REF! | C8: =+#REF!=EnviadoEvalina!C8 -> #REF! | D8: =+#REF!=EnviadoEvalina!D8 -> #REF! | E8: =+#REF!=EnviadoEvalina!E8 -> #REF! | F8: =+#REF!=EnviadoEvalina!F8 -> #REF! | G8: =+#REF!=EnviadoEvalina!G8 -> #REF! | H8: =+#REF!=EnviadoEvalina!H8 -> #REF! | ... T8: =+#REF!=EnviadoEvalina!T8 -> #REF!
A9: =+#REF!=EnviadoEvalina!A9 -> #REF! | B9: =+#REF!=EnviadoEvalina!B9 -> #REF! | C9: =+#REF!=EnviadoEvalina!C9 -> #REF! | D9: =+#REF!=EnviadoEvalina!D9 -> #REF! | E9: =+#REF!=EnviadoEvalina!E9 -> #REF! | F9: =+#REF!=EnviadoEvalina!F9 -> #REF! | G9: =+#REF!=EnviadoEvalina!G9 -> #REF! | H9: =+#REF!=EnviadoEvalina!H9 -> #REF! | ... T9: =+#REF!=EnviadoEvalina!T9 -> #REF!
A10: =+#REF!=EnviadoEvalina!A10 -> #REF! | B10: =+#REF!=EnviadoEvalina!B10 -> #REF! | C10: =+#REF!=EnviadoEvalina!C10 -> #REF! | D10: =+#REF!=EnviadoEvalina!D10 -> #REF! | E10: =+#REF!=EnviadoEvalina!E10 -> #REF! | F10: =+#REF!=EnviadoEvalina!F10 -> #REF! | G10: =+#REF!=EnviadoEvalina!G10 -> #REF! | H10: =+#REF!=EnviadoEvalina!H10 -> #REF! | ... T10: =+#REF!=EnviadoEvalina!T10 -> #REF!
A11: =+#REF!=EnviadoEvalina!A11 -> #REF! | B11: =+#REF!=EnviadoEvalina!B11 -> #REF! | C11: =+#REF!=EnviadoEvalina!C11 -> #REF! | D11: =+#REF!=EnviadoEvalina!D11 -> #REF! | E11: =+#REF!=EnviadoEvalina!E11 -> #REF! | F11: =+#REF!=EnviadoEvalina!F11 -> #REF! | G11: =+#REF!=EnviadoEvalina!G11 -> #REF! | H11: =+#REF!=EnviadoEvalina!H11 -> #REF! | ... T11: =+#REF!=EnviadoEvalina!T11 -> #REF!
A12: =+#REF!=EnviadoEvalina!A12 -> #REF! | B12: =+#REF!=EnviadoEvalina!B12 -> #REF! | C12: =+#REF!=EnviadoEvalina!C12 -> #REF! | D12: =+#REF!=EnviadoEvalina!D12 -> #REF! | E12: =+#REF!=EnviadoEvalina!E12 -> #REF! | F12: =+#REF!=EnviadoEvalina!F12 -> #REF! | G12: =+#REF!=EnviadoEvalina!G12 -> #REF! | H12: =+#REF!=EnviadoEvalina!H12 -> #REF! | ... T12: =+#REF!=EnviadoEvalina!T12 -> #REF!
... A365: =+#REF!=EnviadoEvalina!A365 -> #REF! | B365: =+#REF!=EnviadoEvalina!B365 -> #REF! | C365: =+#REF!=EnviadoEvalina!C365 -> #REF! | D365: =+#REF!=EnviadoEvalina!D365 -> #REF! | E365: =+#REF!=EnviadoEvalina!E365 -> #REF! | F365: =+#REF!=EnviadoEvalina!F365 -> #REF! | G365: =+#REF!=EnviadoEvalina!G365 -> #REF! | H365: =+#REF!=EnviadoEvalina!H365 -> #REF! | ... T365: =+#REF!=EnviadoEvalina!T365 -> #REF!

Sheet Cambios
A1: 0.42010275 | B1: 0.42108482 | C1: 0.41737526 | D1: 0.41774314 | E1: 0.41573123 | G1: 0.42010279 | H1: 0.42108482 | I1: 0.41737526 | J1: 0.41774315 | K1: 0.41573119 | M1: 0.42010275 | N1: 0.42108482 | O1: 0.41737526 | P1: 0.41774314 | Q1: 0.41573123
A2: 0.14271741 | B2: 0.14315532 | C2: 0.14793826 | D2: 0.14575607 | E2: 0.15582637 | G2: 0.14271739 | H2: 0.14315531 | I2: 0.14793827 | J2: 0.14575608 | K2: 0.15582638 | M2: 0.14271741 | N2: 0.14315532 | O2: 0.14793826 | P2: 0.14575607 | Q2: 0.15582637
A3: 0.078285598 | B3: 0.080788528 | C3: 0.074808464 | D3: 0.076726319 | E3: 0.07870993 | G3: 0.078285586 | H3: 0.080788535 | I3: 0.074808468 | J3: 0.076726308 | K3: 0.078709933 | M3: 0.078285598 | N3: 0.080788528 | O3: 0.074808464 | P3: 0.076726319 | Q3: 0.07870993
A4: 0.051775725 | B4: 0.052568326 | C4: 0.057458033 | D4: 0.054878472 | E4: 0.052779656 | G4: 0.051775723 | H4: 0.052568315 | I4: 0.057458034 | J4: 0.054878462 | K4: 0.052779649 | M4: 0.051775725 | N4: 0.052568326 | O4: 0.057458033 | P4: 0.054878472 | Q4: 0.052779656
A5: 0.032780575 | B5: 0.032062609 | C5: 0.029421227 | D5: 0.030730081 | E5: 0.032572155 | G5: 0.032780577 | H5: 0.032062616 | I5: 0.029421232 | J5: 0.030730086 | K5: 0.032572164 | M5: 0.032780575 | N5: 0.032062609 | O5: 0.029421227 | P5: 0.030730081 | Q5: 0.032572155
A6: 0.10841292 | B6: 0.099384747 | C6: 0.10346095 | D6: 0.10388671 | E6: 0.098680206 | G6: 0.10841293 | H6: 0.099384747 | I6: 0.10346096 | J6: 0.10388671 | K6: 0.098680214 | M6: 0.10841292 | N6: 0.099384747 | O6: 0.10346095 | P6: 0.10388671 | Q6: 0.098680206
A7: 0.016766865 | B7: 0.019011389 | C7: 0.019864684 | D7: 0.018672238 | E7: 0.018440124 | G7: 0.016766854 | H7: 0.01901138 | I7: 0.019864686 | J7: 0.01867223 | K7: 0.018440134 | M7: 0.016766865 | N7: 0.019011389 | O7: 0.019864684 | P7: 0.018672238 | Q7: 0.018440124
A8: 0.023603155 | B8: 0.022116608 | C8: 0.021184877 | D8: 0.022119027 | E8: 0.022370054 | G8: 0.023603142 | H8: 0.022116605 | I8: 0.021184885 | J8: 0.022119035 | K8: 0.02237005 | M8: 0.023603155 | N8: 0.022116608 | O8: 0.021184877 | P8: 0.022119027 | Q8: 0.022370054
A9: 0.041276511 | B9: 0.042735346 | C9: 0.042397316 | D9: 0.049939928 | E9: 0.044033952 | G9: 0.041276525 | H9: 0.04273534 | I9: 0.042397304 | J9: 0.049939918 | K9: 0.044033949 | M9: 0.041276511 | N9: 0.042735346 | O9: 0.042397316 | P9: 0.049939928 | Q9: 0.044033952
A10: 0.078290953 | B10: 0.081185731 | C10: 0.079894718 | D10: 0.074766881 | E10: 0.074686565 | G10: 0.078290943 | H10: 0.081185744 | I10: 0.079894714 | J10: 0.07476688 | K10: 0.07468657 | M10: 0.078290953 | N10: 0.081185731 | O10: 0.079894718 | P10: 0.074766881 | Q10: 0.074686565
A11: 0.0059875469 | B11: 0.0059065831 | C11: 0.0061962077 | D11: 0.0047811384 | E11: 0.0061697611 | G11: 0.0059875436 | H11: 0.005906588 | I11: 0.0061961959 | J11: 0.0047811456 | K11: 0.006169761 | M11: 0.0059875469 | N11: 0.0059065831 | O11: 0.0061962077 | P11: 0.0047811384 | Q11: 0.0061697611
G13: =+G1-A1 -> 4.2596421e-08 | H13: =+H1-B1 -> 2.6070527e-09 | I13: =+I1-C1 -> -7.3710194e-09 | J13: =+J1-D1 -> 8.6272728e-09 | K13: =+K1-E1 -> -3.2821846e-08 | M13: =+M1=A1 -> TRUE | N13: =+N1=B1 -> TRUE | O13: =+O1=C1 -> TRUE | P13: =+P1=D1 -> TRUE | Q13: =+Q1=E1 -> TRUE
G14: =+G2-A2 -> -1.5149532e-08 | H14: =+H2-B2 -> -5.8118149e-09 | I14: =+I2-C2 -> 1.1738601e-08 | J14: =+J2-D2 -> 9.5036678e-09 | K14: =+K2-E2 -> 8.6695108e-09 | M14: =+M2=A2 -> TRUE | N14: =+N2=B2 -> TRUE | O14: =+O2=C2 -> TRUE | P14: =+P2=D2 -> TRUE | Q14: =+Q2=E2 -> TRUE
G15: =+G3-A3 -> -1.1958928e-08 | H15: =+H3-B3 -> 6.9154195e-09 | I15: =+I3-C3 -> 3.8875094e-09 | J15: =+J3-D3 -> -1.0663725e-08 | K15: =+K3-E3 -> 3.1882916e-09 | M15: =+M3=A3 -> TRUE | N15: =+N3=B3 -> TRUE | O15: =+O3=C3 -> TRUE | P15: =+P3=D3 -> TRUE | Q15: =+Q3=E3 -> TRUE
G16: =+G4-A4 -> -2.2013378e-09 | H16: =+H4-B4 -> -1.0062627e-08 | I16: =+I4-C4 -> 1.6309293e-09 | J16: =+J4-D4 -> -1.0402447e-08 | K16: =+K4-E4 -> -6.5632694e-09 | M16: =+M4=A4 -> TRUE | N16: =+N4=B4 -> TRUE | O16: =+O4=C4 -> TRUE | P16: =+P4=D4 -> TRUE | Q16: =+Q4=E4 -> TRUE
G17: =+G5-A5 -> 1.8222764e-09 | H17: =+H5-B5 -> 6.9994706e-09 | I17: =+I5-C5 -> 4.5794123e-09 | J17: =+J5-D5 -> 4.8414257e-09 | K17: =+K5-E5 -> 9.1908236e-09 | M17: =+M5=A5 -> TRUE | N17: =+N5=B5 -> TRUE | O17: =+O5=C5 -> TRUE | P17: =+P5=D5 -> TRUE | Q17: =+Q5=E5 -> TRUE
G18: =+G6-A6 -> 8.1881538e-09 | H18: =+H6-B6 -> -7.6103916e-10 | I18: =+I6-C6 -> 3.0815666e-09 | J18: =+J6-D6 -> 5.9493761e-10 | K18: =+K6-E6 -> 8.1469985e-09 | M18: =+M6=A6 -> TRUE | N18: =+N6=B6 -> TRUE | O18: =+O6=C6 -> TRUE | P18: =+P6=D6 -> TRUE | Q18: =+Q6=E6 -> TRUE
G19: =+G7-A7 -> -1.1141195e-08 | H19: =+H7-B7 -> -9.0366977e-09 | I19: =+I7-C7 -> 2.153752e-09 | J19: =+J7-D7 -> -7.67476e-09 | K19: =+K7-E7 -> 1.0727804e-08 | M19: =+M7=A7 -> TRUE | N19: =+N7=B7 -> TRUE | O19: =+O7=C7 -> TRUE | P19: =+P7=D7 -> TRUE | Q19: =+Q7=E7 -> TRUE
G20: =+G8-A8 -> -1.3175678e-08 | H20: =+H8-B8 -> -3.0804779e-09 | I20: =+I8-C8 -> 8.0711795e-09 | J20: =+J8-D8 -> 8.8254839e-09 | K20: =+K8-E8 -> -3.4950145e-09 | M20: =+M8=A8 -> TRUE | N20: =+N8=B8 -> TRUE | O20: =+O8=C8 -> TRUE | P20: =+P8=D8 -> TRUE | Q20: =+Q8=E8 -> TRUE
G21: =+G9-A9 -> 1.4452113e-08 | H21: =+H9-B9 -> -5.9168047e-09 | I21: =+I9-C9 -> -1.2042025e-08 | J21: =+J9-D9 -> -1.015199e-08 | K21: =+K9-E9 -> -2.6424296e-09 | M21: =+M9=A9 -> TRUE | N21: =+N9=B9 -> TRUE | O21: =+O9=C9 -> TRUE | P21: =+P9=D9 -> TRUE | Q21: =+Q9=E9 -> TRUE
G22: =+G10-A10 -> -1.020718e-08 | H22: =+H10-B10 -> 1.3322977e-08 | I22: =+I10-C10 -> -3.9381934e-09 | J22: =+J10-D10 -> -7.1368846e-10 | K22: =+K10-E10 -> 5.7092399e-09 | M22: =+M10=A10 -> TRUE | N22: =+N10=B10 -> TRUE | O22: =+O10=C10 -> TRUE | P22: =+P10=D10 -> TRUE | Q22: =+Q10=E10 -> TRUE
G23: =+G11-A11 -> -3.2251141e-09 | H23: =+H11-B11 -> 4.8245413e-09 | I23: =+I11-C11 -> -1.1791713e-08 | J23: =+J11-D11 -> 7.2138227e-09 | K23: =+K11-E11 -> -1.1010829e-10 | M23: =+M11=A11 -> TRUE | N23: =+N11=B11 -> TRUE | O23: =+O11=C11 -> TRUE | P23: =+P11=D11 -> TRUE | Q23: =+Q11=E11 -> TRUE

Sheet Índice
A1: Índice
A2: Numeración | B2: Nombre
A3: Gráfico 1 | B3: Estructura promedio del PIB por región, 2015-2022, en %
A4: Gráfico 2 | B4: Variación en la participación del PIB por región, en p.p
A5: Mapa 1 | B5: Contribución promedio al crecimiento real, 2016-2022, en p.p
A6: Gráfico 3 | B6: Tasa de crecimiento promedio real por región, 2016-2022, en %
A7: Gráfico 4 | B7: PIB regional en términos per cápita, en precios corrientes
A8: Gráfico 5 | B8: VAB del sector como porcentaje del total por región, promedio 2015-2022, en %
A9: Gráfico 6 | B9: Composición del VAB regional según principales sectores, promedio 2015-2022, en %

Sheet Gráfico 1
A1: Gráfico 1. Estructura promedio del PIB por región, 2015-2022, en %
A4: Regiones | B4: Promedio
A5: Extra-región | B5: 0.7958985
A6: Enriquillo | B6: 2.4755365
A7: El Valle | B7: 3.3913431
A8: Cibao Noroeste | B8: 3.4132624
A9: Higuamo | B9: 4.7106981
A10: Cibao Nordeste | B10: 5.373203
A11: Yuma | B11: 6.9456511
A12: Cibao Sur | B12: 8.1222676
A13: Valdesia | B13: 8.8336078
A14: Cibao Norte | B14: 15.257928
A15: Ozama | B15: 40.680604
D18: Fuente: Elaboración de los autores.

Sheet Gráfico 2
A1: Gráfico 2. Variación en la participación del PIB por región, en p.p.
D2: 2019-2020 | G2: 2019-2022
A3: Regiones | B3: Variación 2020-2019 (p.p.)
A4: Yuma | B4: -1.2627889
A5: Ozama | B5: -0.46465007
A6: Higuamo | B6: -0.23611894
A7: Extra-región | B7: -0.14204815
A8: Enriquillo | B8: 0.043381491
A9: Cibao Norte | B9: 0.089023175
A10: El Valle | B10: 0.19223682
A11: Cibao Noroeste | B11: 0.20736506
A12: Valdesia | B12: 0.31535818
A13: Cibao Nordeste | B13: 0.36355763
A14: Cibao Sur | B14: 0.89468366
D15: Fuente: Elaboración de los autores.
A16: Regiones | B16: Variación 2022-2019 (p.p.)
A17: Yuma | B17: -0.45354395
A18: Extra-región | B18: -0.32117299
A19: Cibao Nordeste | B19: -0.29706686
A20: El Valle | B20: -0.12251492
A21: Cibao Noroeste | B21: 0.0064775971
A22: Cibao Norte | B22: 0.027603046
A23: Cibao Sur | B23: 0.077148872
A24: Enriquillo | B24: 0.087177598
A25: Ozama | B25: 0.1261069
A26: Valdesia | B26: 0.28367603
A27: Higuamo | B27: 0.58610868

Sheet Mapa 1
A1: Mapa 1. Contribución promedio al crecimiento real, 2016-2022, en p.p.
A3: Región | B3: Promedio 2015-2022
A4: Ozama | B4: 1.7670233
A5: Cibao Norte | B5: 0.87119294
A6: Cibao Sur | B6: 0.43444026
A7: Yuma | B7: 0.4256017
A8: Higuamo | B8: 0.35714787
A9: Valdesia | B9: 0.35242315
A10: Cibao Nordeste | B10: 0.22775917
A11: El Valle | B11: 0.17454003
A12: Cibao Noroeste | B12: 0.12565862
A13: Enriquillo | B13: 0.10085614
D17: Fuente: Elaboración de los autores.

Sheet Gráfico 3
A1: Gráfico 3. Tasa de crecimiento promedio real por región, 2016-2022, en %
A3: Región | B3: Crec. Prom. 2016-2022 | C3: Crec. Prom. 2016-2019 Nacional
A4: Higuamo | B4: 8.0891816 | C4: 4.8243822
A5: Yuma | B5: 6.8887028 | C5: 4.8243822
A6: Cibao Norte | B6: 5.8239719 | C6: 4.8243822
A7: Cibao Sur | B7: 5.6187828 | C7: 4.8243822
A8: El Valle | B8: 5.2347596 | C8: 4.8243822
A9: Ozama | B9: 4.3360159 | C9: 4.8243822
A10: Cibao Nordeste | B10: 4.2478948 | C10: 4.8243822
A11: Enriquillo | B11: 4.0838799 | C11: 4.8243822
A12: Valdesia | B12: 4.037957 | C12: 4.8243822
A13: Cibao Noroeste | B13: 3.7559864 | C13: 4.8243822
A14: Extra-region | B14: -0.75852708
A15: PIB Nacional | B15: 4.8243822
E17: Fuente: Elaboración de los autores.

Sheet Gráfico 4
A1: Gráfico 4. PIB regional en términos per cápita, en precios corrientes
A3: Región | B3: 2015 | C3: 2016 | D3: 2017 | E3: 2018 | F3: 2019 | G3: 2020 | H3: 2021 | I3: 2022 | J3: Promedio 2015-2022
A4: Ozama | B4: 368045.88 | C4: 382210.41 | D4: 411724.07 | E4: 451127.47 | F4: 474503.43 | G4: 451612 | H4: 536822.05 | I4: 626144.05 | J4: 462773.67
A5: Cibao Norte | B5: 300624.07 | C5: 328036.4 | D5: 362992.32 | E5: 383696.82 | F5: 445059.58 | G5: 434914 | H5: 514481.21 | I5: 602492.17 | J5: 421537.07
A6: Cibao Sur | B6: 334184.25 | C6: 397905.93 | D6: 414983.96 | E6: 462858.95 | F6: 490393.59 | G6: 531799.94 | H6: 613692.88 | I6: 674458.86 | J6: 490034.8
A7: Cibao Nordeste | B7: 260502.98 | C7: 308997.35 | D7: 334542.57 | E7: 361237.02 | F7: 374190.84 | G7: 389848.23 | H7: 433483.9 | I7: 481532.07 | J7: 368041.87
A8: Cibao Noroeste | B8: 284052.02 | C8: 287240.74 | D8: 294709.46 | E8: 348984.61 | F8: 367842.44 | G8: 379767.39 | H8: 444872.98 | I8: 499085.97 | J8: 363319.45
A9: Valdesia | B9: 346871.72 | C9: 348181.53 | D9: 385673.17 | E9: 436708.66 | F9: 435630.77 | G9: 438089.93 | H9: 549457.51 | I9: 604176.09 | J9: 443098.67
A10: El Valle | B10: 199498.28 | C10: 240551.97 | D10: 257802.18 | E10: 281984.29 | F10: 303823.93 | G10: 314122.47 | H10: 359775.44 | I10: 404403.66 | J10: 295245.28
A11: Enriquillo | B11: 223596.07 | C11: 234120.82 | D11: 239619.8 | E11: 268773.72 | F11: 288130.24 | G11: 285629.3 | H11: 343058.25 | I11: 406235.19 | J11: 286145.42
A12: Higuamo | B12: 242649.22 | C12: 282667.08 | D12: 305036.33 | E12: 379910.14 | F12: 360294.74 | G12: 332910.42 | H12: 442226.15 | I12: 553442 | J12: 362392.01
A13: Yuma | B13: 318500.08 | C13: 350666.45 | D13: 382049.47 | E13: 418208.13 | F13: 488102.78 | G13: 391598.72 | H13: 540303.66 | I13: 603267.44 | J13: 436587.09
A14: Población | B14: 321200.11 | C14: 346131.71 | D14: 373939.57 | E14: 412603.28 | F14: 440441.6 | G14: 426535.66 | H14: 511859.54 | I14: 589399.41 | J14: 427763.86
L15: Fuente: Elaboración de los autores.

Sheet Gráfico 5
A1: Gráfico 5. VAB del sector como porcentaje del total por región, promedio 2015-2022, en %
K2: Industrias manufactureras | O2: Construcción | S2: Comercio
A5: Region | B5: Industrias manufactureras | D5: Región | E5: Construcción | G5: Región | H5: Comercio
A6: El Valle | B6: 0.18775266 | D6: Cibao Noroeste | E6: 3.1048835 | G6: Enriquillo | H6: 2.852448
A7: Enriquillo | B7: 0.4056844 | D7: Enriquillo | E7: 3.3506461 | G7: Cibao Noroeste | H7: 3.7810058
A8: Cibao Nordeste | B8: 0.47916105 | D8: El Valle | E8: 4.1130273 | G8: Higuamo | H8: 4.4615189
A9: Cibao Noroeste | B9: 1.220288 | D9: Higuamo | E9: 5.0584181 | G9: El Valle | H9: 4.4736649
A10: Higuamo | B10: 2.1368793 | D10: Valdesia | E10: 7.6449009 | G10: Cibao Nordeste | H10: 6.0064814
A11: Cibao Sur | B11: 2.6646149 | D11: Yuma | E11: 8.2345011 | G11: Yuma | H11: 6.3825394
A12: Yuma | B12: 3.7744814 | D12: Cibao Nordeste | E12: 8.3154881 | G12: Valdesia | H12: 6.6133981
A13: Cibao Norte | B13: 16.744189 | D13: Cibao Sur | E13: 8.3721991 | G13: Cibao Sur | H13: 6.6490508
A14: Valdesia | B14: 18.291942 | D14: Cibao Norte | E14: 17.459509 | G14: Cibao Norte | H14: 17.08986
A15: Ozama | B15: 54.095007 | D15: Ozama | E15: 34.346427 | G15: Ozama | H15: 41.690033
A16: PIB Nacional | B16: 100 | D16: PIB Nacional | E16: 100 | G16: PIB Nacional | H16: 100
K18: Fuente: Elaboración de los autores.

Sheet Gráfico 6
A1: Gráfico 6. Composición del VAB regional según principales sectores, promedio 2015-2022, en %
A3: Región | B3: Agropecuario | C3: Manufactura | D3: Comercio | E3: Hoteles, bares y restaurantes | F3: Transporte y almacenamiento | G3: Actividades inmobiliarias y de alquiler
A4: Ozama | B4: 0.34215677 | C4: 20.767382 | D4: 11.639924 | E4: 5.8595059 | F4: 9.0463141 | G4: 10.844589
A5: Cibao Norte | B5: 5.3859305 | C5: 17.030265 | D5: 12.641223 | E5: 7.3087931 | F5: 8.7469877 | G5: 9.0902047
A6: Cibao Sur | B6: 15.379389 | C6: 5.1021401 | D6: 9.2591456 | E6: 4.9096783 | F6: 5.718035 | G6: 4.2341084
A7: Cibao Nordeste | B7: 15.953349 | C7: 1.3980826 | D7: 12.745732 | E7: 7.4207837 | F7: 9.5270678 | G7: 5.2032694
A8: Cibao Noroeste | B8: 25.563373 | C8: 5.5777198 | D8: 12.568835 | E8: 5.6546483 | F8: 8.3509256 | G8: 4.021616
A9: Valdesia | B9: 4.5030112 | C9: 32.30624 | D9: 8.4946324 | E9: 4.2947091 | F9: 9.9637688 | G9: 4.0367308
A10: El Valle | B10: 13.484163 | C10: 0.86392938 | D10: 14.970935 | E10: 5.8132622 | F10: 12.443886 | G10: 4.4753889
A11: Enriquillo | B11: 10.438324 | C11: 2.5593613 | D11: 13.087429 | E11: 7.1246722 | F11: 10.417425 | G11: 2.8393377
A12: Higuamo | B12: 11.950105 | C12: 7.0142099 | D12: 10.650619 | E12: 6.7556275 | F12: 10.602639 | G12: 5.3270108
A13: Yuma | B13: 4.9816046 | C13: 8.4254637 | D13: 10.361517 | E13: 21.931761 | F13: 9.1467055 | G13: 9.766613
A14: Nacional | B14: 5.9676682 | C14: 15.587092 | D14: 11.335964 | E14: 7.0922832 | F14: 8.9730602 | G14: 8.0688841
I18: Fuente: Elaboración de los autores.

Sheet PIBNacional
A1: Banco Central de la República Dominicana
A2: Departamento de Cuentas Nacionales y Estadísticas Económicas
A3: PRODUCTO INTERNO BRUTO
A4: 2016-2020
A6: Período | B6: Población | C6: PIB Corriente | D6: PIB Corriente | E6: PIB Corriente | F6: PIB Corriente | G6: PIB Referencia 2007
B7: (Miles) | C7: (Millones de RD$) | D7: (Percápita en RD$) | E7: (Millones de US$) | F7: (Percápita en US$) | G7: (Indices Encadenados)
A8: 2016 | B8: 10075.045 | C8: 3487292.5 | D8: 346131.71 | E8: 75759.445 | F8: 7519.5143 | G8: 153.1043
A9: 2017 (p) | B9: 10169.172 | C9: 3802655.8 | D9: 373939.57 | E9: 80024.521 | F9: 7869.3252 | G9: 160.24922
A10: 2018 (p) | B10: 10266.149 | C10: 4235846.8 | D10: 412603.28 | E10: 85536.894 | F10: 8331.9358 | G10: 171.43867
A11: 2019 (p) | B11: 10358.32 | C11: 4562235.1 | D11: 440441.6 | E11: 88906.1 | F11: 8583.0617 | G11: 180.10004
A12: 2020 (p) | B12: 10448.499 | C12: 4456657.4 | D12: 426535.66 | E12: 78828.993 | F12: 7544.5279 | G12: 167.99688
A13: (p) Cifras preliminares
A15: Tasas de Crecimiento (%)
A16: Período | B16: Población | C16: PIB Corriente | D16: PIB Corriente | E16: PIB Corriente | F16: PIB Corriente | G16: PIB Referencia 2007
B17: (Miles) | C17: (Millones de RD$) | D17: (Percápita en RD$) | E17: (Millones de US$) | F17: (Percápita en US$) | G17: (Indices Encadenados)
A18: 2016 | B18: 0.94989671 | C18: 8.7856418 | D18: 7.7620139 | E18: 6.3395024 | F18: 5.3388917 | G18: 6.6592003
A19: 2017 | B19: 0.93425885 | C19: 9.0432121 | D19: 8.0338959 | E19: 5.6297626 | F19: 4.6520416 | G19: 4.6667047
A20: 2018 | B20: 0.95363713 | C20: 11.391801 | D20: 10.339562 | E20: 6.8883548 | F20: 5.8786567 | G20: 6.9825276
A21: 2019 | B21: 0.89781475 | C21: 7.7053852 | D21: 6.7469949 | E21: 3.9388916 | F21: 3.0140166 | G21: 5.052168
A22: 2020 | B22: 0.87059485 | C22: -2.3141661 | D22: -3.1572739 | E22: -11.334551 | F22: -12.099806 | G22: -6.7202394
